BEGIN:VCALENDAR
VERSION:2.0
PRODID:icalendar-ruby
CALSCALE:GREGORIAN
METHOD:PUBLISH
BEGIN:VEVENT
DTSTAMP:20260423T182601Z
UID:596-9041185@jamesnorth.church
DTSTART:20260524T160000Z
DTEND:20260524T170000Z
CLASS:PUBLIC
CREATED:20260422T142351
DESCRIPTION:Discovering James North is a great opportunity for us to get t
 o know one another. We believe it’s important for people to learn about 
 a church before deciding to become part of its community.\nThis one-time c
 lass will take place in the boardroom\, located in the office space. and w
 e'll share a light refreshments together as we talk. You’ll learn about 
 who we are\, what we believe\, and a bit of our church’s history.\nOur h
 ope is that this will be a meaningful step in building a connection—and 
 a helpful part of your prayerful journey as you discern where God is leadi
 ng you to call home.\nSIGN UP TO ATTEND
LAST-MODIFIED:20260422T142351
LOCATION:
SUMMARY:Discovering James North
URL;VALUE=URI:https://jamesnorth.church/events/discovering-james-north--596
 /2026-05-24
ATTACH;FILENAME=DJN website.png;FMTTYPE=image/png:https://dq5pwpg1q8ru0.clo
 udfront.net/2025/06/12/19/18/17/62e9f302-9c35-4462-94c4-25d2b94dcbcd/DJN%2
 0website.png
END:VEVENT
END:VCALENDAR
